BEGIN:VCALENDAR
VERSION:2.0
PRODID:-//eventon.com NONSGML v1.0//EN
CALSCALE:GREGORIAN
METHOD:PUBLISH
BEGIN:VEVENT
UID:69e73283403b1
DTSTAMP:20260421T081707Z
DTSTART:20221110T230000Z
DTEND:20221111T000000Z
LOCATION:
SUMMARY:Starting a Small Business on a Limited Budget (Online)
DESCRIPTION:Online Facilitated by Cape Fear Community College (CFCC) Smal
 l Business Center Topic: Technology Your most important sales tool is your 
 website. Buyers are vetting you before they talk to a salesperson.In fact\,
   buyers go through 80% of the shopping process before contacting you. Just
  like your sales staff\, your website has to be[..]\nhttps://wilmingtonbusi
 nessresources.com/events/starting-a-small-business-on-a-limited-budget-onli
 ne/
URL:https://wilmingtonbusinessresources.com/events/starting-a-small-business-on-a-limited-budget-online/
END:VEVENT
END:VCALENDAR