BEGIN:VCALENDAR
VERSION:2.0
PRODID:-//eventon.com NONSGML v1.0//EN
CALSCALE:GREGORIAN
METHOD:PUBLISH
BEGIN:VEVENT
UID:69e8f270811b2
DTSTAMP:20260422T160816Z
DTSTART:20220309T180000Z
DTEND:20220309T200000Z
LOCATION:
SUMMARY:Introduction to Federal Contracting - Webinar
DESCRIPTION:Online Facilitated by Cape Fear Community College (CFCC) Smal
 l Business CenterTopic: Government Contracting To sell your products or ser
 vices to the federal government\,  your small business must meet specific r
 equirements. Although the contracting process can seem complicated and over
 whelming at first\,  the government provides information and tips to help y
 ou learn to[..]\nhttps://wilmingtonbusinessresources.com/events/introductio
 n-to-federal-contracting-webinar/
URL:https://wilmingtonbusinessresources.com/events/introduction-to-federal-contracting-webinar/
END:VEVENT
END:VCALENDAR