BEGIN:VCALENDAR
VERSION:2.0
PRODID:-//eventon.com NONSGML v1.0//EN
CALSCALE:GREGORIAN
METHOD:PUBLISH
BEGIN:VEVENT
UID:69e749d75edfc
DTSTAMP:20260421T095639Z
DTSTART:20220302T170000Z
DTEND:20220302T190000Z
LOCATION:
SUMMARY:Withholding Tax
DESCRIPTION:BCC Online/ At Your HomeOnline Withholding Tax Basics (2 hours)
  – This seminar will help participants better understand their withholdin
 g tax obligations with NCDOR. Participants will receive instructions on how
  to file and when to file a withholding tax return in addition to learning 
 about the basics of state withholding[..]\nhttps://wilmingtonbusinessresour
 ces.com/events/withholding-tax/
URL:https://wilmingtonbusinessresources.com/events/withholding-tax/
END:VEVENT
END:VCALENDAR