BEGIN:VCALENDAR
VERSION:2.0
PRODID:-//eventon.com NONSGML v1.0//EN
CALSCALE:GREGORIAN
METHOD:PUBLISH
BEGIN:VEVENT
UID:69e5f20fca78d
DTSTAMP:20260420T092951Z
DTSTART:20220115T223000Z
DTEND:20220116T003000Z
LOCATION:
SUMMARY:Viewing Party
DESCRIPTION:Viewing Party\nhttps://wilmingtonbusinessresources.com/events/v
 iewing-party-and-panel/
URL:https://wilmingtonbusinessresources.com/events/viewing-party-and-panel/
END:VEVENT
END:VCALENDAR